BEGIN:VCALENDAR
VERSION:2.0
PRODID:-//Global 50/50 - ECPv6.15.20//NONSGML v1.0//EN
CALSCALE:GREGORIAN
METHOD:PUBLISH
X-ORIGINAL-URL:https://global5050.org
X-WR-CALDESC:Events for Global 50/50
REFRESH-INTERVAL;VALUE=DURATION:PT1H
X-Robots-Tag:noindex
X-PUBLISHED-TTL:PT1H
BEGIN:VTIMEZONE
TZID:Europe/London
BEGIN:DAYLIGHT
TZOFFSETFROM:+0000
TZOFFSETTO:+0100
TZNAME:BST
DTSTART:20220327T010000
END:DAYLIGHT
BEGIN:STANDARD
TZOFFSETFROM:+0100
TZOFFSETTO:+0000
TZNAME:GMT
DTSTART:20221030T010000
END:STANDARD
BEGIN:DAYLIGHT
TZOFFSETFROM:+0000
TZOFFSETTO:+0100
TZNAME:BST
DTSTART:20230326T010000
END:DAYLIGHT
BEGIN:STANDARD
TZOFFSETFROM:+0100
TZOFFSETTO:+0000
TZNAME:GMT
DTSTART:20231029T010000
END:STANDARD
BEGIN:DAYLIGHT
TZOFFSETFROM:+0000
TZOFFSETTO:+0100
TZNAME:BST
DTSTART:20240331T010000
END:DAYLIGHT
BEGIN:STANDARD
TZOFFSETFROM:+0100
TZOFFSETTO:+0000
TZNAME:GMT
DTSTART:20241027T010000
END:STANDARD
END:VTIMEZONE
BEGIN:VEVENT
DTSTART;VALUE=DATE:20230402
DTEND;VALUE=DATE:20230409
DTSTAMP:20260422T090152
CREATED:20221215T121500Z
LAST-MODIFIED:20221215T121500Z
UID:6268-1680393600-1680998399@global5050.org
SUMMARY:World Health Worker Week
DESCRIPTION:
URL:https://global5050.org/keyevents/world-health-worker-week/
CATEGORIES:Events
END:VEVENT
BEGIN:VEVENT
DTSTART;VALUE=DATE:20230407
DTEND;VALUE=DATE:20230408
DTSTAMP:20260422T090152
CREATED:20221215T121640Z
LAST-MODIFIED:20221215T121640Z
UID:6273-1680825600-1680911999@global5050.org
SUMMARY:World Health Day
DESCRIPTION:
URL:https://global5050.org/keyevents/world-health-day-3/
CATEGORIES:Events
END:VEVENT
END:VCALENDAR