BEGIN:VCALENDAR
VERSION:2.0
PRODID:-//Global 50/50 - ECPv6.15.20//NONSGML v1.0//EN
CALSCALE:GREGORIAN
METHOD:PUBLISH
X-WR-CALNAME:Global 50/50
X-ORIGINAL-URL:https://global5050.org
X-WR-CALDESC:Events for Global 50/50
REFRESH-INTERVAL;VALUE=DURATION:PT1H
X-Robots-Tag:noindex
X-PUBLISHED-TTL:PT1H
BEGIN:VTIMEZONE
TZID:Europe/London
BEGIN:DAYLIGHT
TZOFFSETFROM:+0000
TZOFFSETTO:+0100
TZNAME:BST
DTSTART:20220327T010000
END:DAYLIGHT
BEGIN:STANDARD
TZOFFSETFROM:+0100
TZOFFSETTO:+0000
TZNAME:GMT
DTSTART:20221030T010000
END:STANDARD
BEGIN:DAYLIGHT
TZOFFSETFROM:+0000
TZOFFSETTO:+0100
TZNAME:BST
DTSTART:20230326T010000
END:DAYLIGHT
BEGIN:STANDARD
TZOFFSETFROM:+0100
TZOFFSETTO:+0000
TZNAME:GMT
DTSTART:20231029T010000
END:STANDARD
BEGIN:DAYLIGHT
TZOFFSETFROM:+0000
TZOFFSETTO:+0100
TZNAME:BST
DTSTART:20240331T010000
END:DAYLIGHT
BEGIN:STANDARD
TZOFFSETFROM:+0100
TZOFFSETTO:+0000
TZNAME:GMT
DTSTART:20241027T010000
END:STANDARD
END:VTIMEZONE
BEGIN:VEVENT
DTSTART;VALUE=DATE:20230911
DTEND;VALUE=DATE:20230914
DTSTAMP:20260422T013545
CREATED:20221215T152141Z
LAST-MODIFIED:20221215T152141Z
UID:6377-1694390400-1694649599@global5050.org
SUMMARY:Health-enhancing physical activity (HEPA) Europe 2023 Conference
DESCRIPTION:
URL:https://global5050.org/keyevents/health-enhancing-physical-activity-hepa-europe-2023-conference/
CATEGORIES:Conferences & Symposia
END:VEVENT
BEGIN:VEVENT
DTSTART;VALUE=DATE:20230912
DTEND;VALUE=DATE:20231001
DTSTAMP:20260422T013545
CREATED:20221215T152234Z
LAST-MODIFIED:20221215T152234Z
UID:6380-1694476800-1696118399@global5050.org
SUMMARY:78th Session of the UN General Assembly (UNGA 78)
DESCRIPTION:
URL:https://global5050.org/keyevents/78th-session-of-the-un-general-assembly-unga-78/
CATEGORIES:Meetings
END:VEVENT
BEGIN:VEVENT
DTSTART;VALUE=DATE:20230913
DTEND;VALUE=DATE:20230914
DTSTAMP:20260422T013545
CREATED:20221215T152324Z
LAST-MODIFIED:20221215T152324Z
UID:6383-1694563200-1694649599@global5050.org
SUMMARY:World Sepsis Day
DESCRIPTION:
URL:https://global5050.org/keyevents/world-sepsis-day-3/
CATEGORIES:Events
END:VEVENT
END:VCALENDAR