BEGIN:VCALENDAR
VERSION:2.0
PRODID:-//Global 50/50 - ECPv6.15.20//NONSGML v1.0//EN
CALSCALE:GREGORIAN
METHOD:PUBLISH
X-WR-CALNAME:Global 50/50
X-ORIGINAL-URL:https://global5050.org
X-WR-CALDESC:Events for Global 50/50
REFRESH-INTERVAL;VALUE=DURATION:PT1H
X-Robots-Tag:noindex
X-PUBLISHED-TTL:PT1H
BEGIN:VTIMEZONE
TZID:Europe/London
BEGIN:DAYLIGHT
TZOFFSETFROM:+0000
TZOFFSETTO:+0100
TZNAME:BST
DTSTART:20200329T010000
END:DAYLIGHT
BEGIN:STANDARD
TZOFFSETFROM:+0100
TZOFFSETTO:+0000
TZNAME:GMT
DTSTART:20201025T010000
END:STANDARD
BEGIN:DAYLIGHT
TZOFFSETFROM:+0000
TZOFFSETTO:+0100
TZNAME:BST
DTSTART:20210328T010000
END:DAYLIGHT
BEGIN:STANDARD
TZOFFSETFROM:+0100
TZOFFSETTO:+0000
TZNAME:GMT
DTSTART:20211031T010000
END:STANDARD
BEGIN:DAYLIGHT
TZOFFSETFROM:+0000
TZOFFSETTO:+0100
TZNAME:BST
DTSTART:20220327T010000
END:DAYLIGHT
BEGIN:STANDARD
TZOFFSETFROM:+0100
TZOFFSETTO:+0000
TZNAME:GMT
DTSTART:20221030T010000
END:STANDARD
END:VTIMEZONE
BEGIN:VEVENT
DTSTART;TZID=Europe/London:20210127T000000
DTEND;TZID=Europe/London:20210128T000000
DTSTAMP:20260420T044850
CREATED:20210112T115502Z
LAST-MODIFIED:20210112T115502Z
UID:4901-1611705600-1611792000@global5050.org
SUMMARY:4th HIV Research for Prevention Conference
DESCRIPTION:
URL:https://global5050.org/keyevents/4th-hiv-research-for-prevention-conference/
CATEGORIES:Conferences & Symposia
END:VEVENT
BEGIN:VEVENT
DTSTART;TZID=Europe/London:20210126T000000
DTEND;TZID=Europe/London:20210127T000000
DTSTAMP:20260420T044850
CREATED:20210112T115502Z
LAST-MODIFIED:20210112T115502Z
UID:4900-1611619200-1611705600@global5050.org
SUMMARY:CORE Group 2021 Global Health Practitioner Conference
DESCRIPTION:
URL:https://global5050.org/keyevents/core-group-2021-global-health-practitioner-conference/
CATEGORIES:Conferences & Symposia
END:VEVENT
BEGIN:VEVENT
DTSTART;TZID=Europe/London:20210125T000000
DTEND;TZID=Europe/London:20210126T000000
DTSTAMP:20260420T044850
CREATED:20210112T115447Z
LAST-MODIFIED:20210112T115447Z
UID:4899-1611532800-1611619200@global5050.org
SUMMARY:Climate Adaptation Summit
DESCRIPTION:
URL:https://global5050.org/keyevents/climate-adaptation-summit/
CATEGORIES:Forums
END:VEVENT
BEGIN:VEVENT
DTSTART;TZID=Europe/London:20210125T000000
DTEND;TZID=Europe/London:20210126T000000
DTSTAMP:20260420T044850
CREATED:20210112T115447Z
LAST-MODIFIED:20210112T115447Z
UID:4898-1611532800-1611619200@global5050.org
SUMMARY:World Social Forum
DESCRIPTION:
URL:https://global5050.org/keyevents/world-social-forum/
CATEGORIES:Forums
END:VEVENT
BEGIN:VEVENT
DTSTART;TZID=Europe/London:20210125T000000
DTEND;TZID=Europe/London:20210126T000000
DTSTAMP:20260420T044850
CREATED:20210112T115446Z
LAST-MODIFIED:20210112T115446Z
UID:4897-1611532800-1611619200@global5050.org
SUMMARY:The Davos Agenda
DESCRIPTION:
URL:https://global5050.org/keyevents/the-davos-agenda/
CATEGORIES:Meetings
END:VEVENT
BEGIN:VEVENT
DTSTART;TZID=Europe/London:20210121T000000
DTEND;TZID=Europe/London:20210122T000000
DTSTAMP:20260420T044850
CREATED:20210112T115446Z
LAST-MODIFIED:20210112T115446Z
UID:4896-1611187200-1611273600@global5050.org
SUMMARY:International Conference on Global Health
DESCRIPTION:
URL:https://global5050.org/keyevents/international-conference-on-global-health/
CATEGORIES:Conferences & Symposia
END:VEVENT
BEGIN:VEVENT
DTSTART;TZID=Europe/London:20210118T000000
DTEND;TZID=Europe/London:20210126T000000
DTSTAMP:20260420T044850
CREATED:20210112T115446Z
LAST-MODIFIED:20210112T115446Z
UID:4895-1610928000-1611619200@global5050.org
SUMMARY:148th session of the WHO Executive Board
DESCRIPTION:
URL:https://global5050.org/keyevents/148th-session-of-the-who-executive-board/
CATEGORIES:Meetings
END:VEVENT
BEGIN:VEVENT
DTSTART;TZID=Europe/London:20210118T000000
DTEND;TZID=Europe/London:20210121T000000
DTSTAMP:20260420T044850
CREATED:20210112T115444Z
LAST-MODIFIED:20210112T115444Z
UID:4893-1610928000-1611187200@global5050.org
SUMMARY:Abu Dhabi Sustainability Week
DESCRIPTION:
URL:https://global5050.org/keyevents/abu-dhabi-sustainability-week/
CATEGORIES:Conferences & Symposia
END:VEVENT
BEGIN:VEVENT
DTSTART;TZID=Europe/London:20210118T000000
DTEND;TZID=Europe/London:20210119T000000
DTSTAMP:20260420T044850
CREATED:20210112T115444Z
LAST-MODIFIED:20210112T115444Z
UID:4894-1610928000-1611014400@global5050.org
SUMMARY:Global Forum for Food and Agriculture
DESCRIPTION:
URL:https://global5050.org/keyevents/global-forum-for-food-and-agriculture/
CATEGORIES:Forums
END:VEVENT
BEGIN:VEVENT
DTSTART;TZID=Europe/London:20210111T000000
DTEND;TZID=Europe/London:20210115T000000
DTSTAMP:20260420T044850
CREATED:20210112T115444Z
LAST-MODIFIED:20210112T115444Z
UID:4892-1610323200-1610668800@global5050.org
SUMMARY:African Union Summit 2021
DESCRIPTION:
URL:https://global5050.org/keyevents/african-union-summit-2021/
CATEGORIES:Meetings
END:VEVENT
BEGIN:VEVENT
DTSTART;TZID=Europe/London:20210111T000000
DTEND;TZID=Europe/London:20210111T000000
DTSTAMP:20260420T044850
CREATED:20210112T115444Z
LAST-MODIFIED:20210112T115444Z
UID:4891-1610323200-1610323200@global5050.org
SUMMARY:One Planet Summit for Biodiversity
DESCRIPTION:
URL:https://global5050.org/keyevents/one-planet-summit-for-biodiversity/
CATEGORIES:Forums
END:VEVENT
BEGIN:VEVENT
DTSTART;TZID=Europe/London:20210105T000000
DTEND;TZID=Europe/London:20210109T000000
DTSTAMP:20260420T044850
CREATED:20210112T115444Z
LAST-MODIFIED:20210112T115444Z
UID:4890-1609804800-1610150400@global5050.org
SUMMARY:NCSE Drawdown Conference
DESCRIPTION:
URL:https://global5050.org/keyevents/ncse-drawdown-conference/
CATEGORIES:Conferences & Symposia
END:VEVENT
END:VCALENDAR