BEGIN:VCALENDAR
VERSION:2.0
PRODID:-//Global 50/50 - ECPv6.15.20//NONSGML v1.0//EN
CALSCALE:GREGORIAN
METHOD:PUBLISH
X-ORIGINAL-URL:https://global5050.org
X-WR-CALDESC:Events for Global 50/50
REFRESH-INTERVAL;VALUE=DURATION:PT1H
X-Robots-Tag:noindex
X-PUBLISHED-TTL:PT1H
BEGIN:VTIMEZONE
TZID:Europe/London
BEGIN:DAYLIGHT
TZOFFSETFROM:+0000
TZOFFSETTO:+0100
TZNAME:BST
DTSTART:20220327T010000
END:DAYLIGHT
BEGIN:STANDARD
TZOFFSETFROM:+0100
TZOFFSETTO:+0000
TZNAME:GMT
DTSTART:20221030T010000
END:STANDARD
BEGIN:DAYLIGHT
TZOFFSETFROM:+0000
TZOFFSETTO:+0100
TZNAME:BST
DTSTART:20230326T010000
END:DAYLIGHT
BEGIN:STANDARD
TZOFFSETFROM:+0100
TZOFFSETTO:+0000
TZNAME:GMT
DTSTART:20231029T010000
END:STANDARD
BEGIN:DAYLIGHT
TZOFFSETFROM:+0000
TZOFFSETTO:+0100
TZNAME:BST
DTSTART:20240331T010000
END:DAYLIGHT
BEGIN:STANDARD
TZOFFSETFROM:+0100
TZOFFSETTO:+0000
TZNAME:GMT
DTSTART:20241027T010000
END:STANDARD
END:VTIMEZONE
BEGIN:VEVENT
DTSTART;VALUE=DATE:20230603
DTEND;VALUE=DATE:20230604
DTSTAMP:20260422T042543
CREATED:20221215T123250Z
LAST-MODIFIED:20221215T123250Z
UID:6325-1685750400-1685836799@global5050.org
SUMMARY:World Bicycle Day
DESCRIPTION:
URL:https://global5050.org/keyevents/world-bicycle-day-3/
CATEGORIES:Events
END:VEVENT
BEGIN:VEVENT
DTSTART;VALUE=DATE:20230605
DTEND;VALUE=DATE:20230606
DTSTAMP:20260422T042543
CREATED:20221215T123346Z
LAST-MODIFIED:20221215T124846Z
UID:6327-1685923200-1686009599@global5050.org
SUMMARY:World Environment Day
DESCRIPTION:
URL:https://global5050.org/keyevents/world-environment-day-3/
CATEGORIES:Events
END:VEVENT
BEGIN:VEVENT
DTSTART;VALUE=DATE:20230605
DTEND;VALUE=DATE:20230607
DTSTAMP:20260422T042543
CREATED:20221215T123428Z
LAST-MODIFIED:20221215T125206Z
UID:6330-1685923200-1686095999@global5050.org
SUMMARY:International Conference on Global Health Challenges
DESCRIPTION:
URL:https://global5050.org/keyevents/international-conference-on-global-health-challenges-2/
CATEGORIES:Conferences & Symposia
END:VEVENT
BEGIN:VEVENT
DTSTART;VALUE=DATE:20230614
DTEND;VALUE=DATE:20230615
DTSTAMP:20260422T042543
CREATED:20221215T123509Z
LAST-MODIFIED:20221215T125259Z
UID:6333-1686700800-1686787199@global5050.org
SUMMARY:World Blood Donor Day
DESCRIPTION:
URL:https://global5050.org/keyevents/world-blood-donor-day-3/
CATEGORIES:Events
END:VEVENT
BEGIN:VEVENT
DTSTART;VALUE=DATE:20230615
DTEND;VALUE=DATE:20230617
DTSTAMP:20260422T042543
CREATED:20221215T123557Z
LAST-MODIFIED:20221215T125317Z
UID:6335-1686787200-1686959999@global5050.org
SUMMARY:International Conference on Global Health
DESCRIPTION:
URL:https://global5050.org/keyevents/international-conference-on-global-health-5/
CATEGORIES:Conferences & Symposia
END:VEVENT
BEGIN:VEVENT
DTSTART;VALUE=DATE:20230615
DTEND;VALUE=DATE:20230617
DTSTAMP:20260422T042543
CREATED:20221215T123649Z
LAST-MODIFIED:20221215T125335Z
UID:6338-1686787200-1686959999@global5050.org
SUMMARY:International Conference on Global Health Challenges
DESCRIPTION:
URL:https://global5050.org/keyevents/international-conference-on-global-health-challenges-3/
CATEGORIES:Conferences & Symposia
END:VEVENT
BEGIN:VEVENT
DTSTART;VALUE=DATE:20230622
DTEND;VALUE=DATE:20230624
DTSTAMP:20260422T042543
CREATED:20221215T123733Z
LAST-MODIFIED:20221215T125422Z
UID:6341-1687392000-1687564799@global5050.org
SUMMARY:International Conference on Global Health and Innovation
DESCRIPTION:
URL:https://global5050.org/keyevents/international-conference-on-global-health-and-innovation-5/
CATEGORIES:Conferences & Symposia
END:VEVENT
END:VCALENDAR