BEGIN:VCALENDAR
VERSION:2.0
PRODID:-//Global 50/50 - ECPv6.15.20//NONSGML v1.0//EN
CALSCALE:GREGORIAN
METHOD:PUBLISH
X-WR-CALNAME:Global 50/50
X-ORIGINAL-URL:https://global5050.org
X-WR-CALDESC:Events for Global 50/50
REFRESH-INTERVAL;VALUE=DURATION:PT1H
X-Robots-Tag:noindex
X-PUBLISHED-TTL:PT1H
BEGIN:VTIMEZONE
TZID:Europe/London
BEGIN:DAYLIGHT
TZOFFSETFROM:+0000
TZOFFSETTO:+0100
TZNAME:BST
DTSTART:20220327T010000
END:DAYLIGHT
BEGIN:STANDARD
TZOFFSETFROM:+0100
TZOFFSETTO:+0000
TZNAME:GMT
DTSTART:20221030T010000
END:STANDARD
BEGIN:DAYLIGHT
TZOFFSETFROM:+0000
TZOFFSETTO:+0100
TZNAME:BST
DTSTART:20230326T010000
END:DAYLIGHT
BEGIN:STANDARD
TZOFFSETFROM:+0100
TZOFFSETTO:+0000
TZNAME:GMT
DTSTART:20231029T010000
END:STANDARD
BEGIN:DAYLIGHT
TZOFFSETFROM:+0000
TZOFFSETTO:+0100
TZNAME:BST
DTSTART:20240331T010000
END:DAYLIGHT
BEGIN:STANDARD
TZOFFSETFROM:+0100
TZOFFSETTO:+0000
TZNAME:GMT
DTSTART:20241027T010000
END:STANDARD
END:VTIMEZONE
BEGIN:VEVENT
DTSTART;VALUE=DATE:20230809
DTEND;VALUE=DATE:20230810
DTSTAMP:20260422T012225
CREATED:20220128T141443Z
LAST-MODIFIED:20221215T125751Z
UID:5813-1691539200-1691625599@global5050.org
SUMMARY:International Day of the World's Indigenous Peoples
DESCRIPTION:
URL:https://global5050.org/keyevents/international-day-of-the-worlds-indigenous-peoples-2/
CATEGORIES:Events
END:VEVENT
BEGIN:VEVENT
DTSTART;VALUE=DATE:20230828
DTEND;VALUE=DATE:20230902
DTSTAMP:20260422T012225
CREATED:20221215T124115Z
LAST-MODIFIED:20221215T125811Z
UID:6355-1693180800-1693612799@global5050.org
SUMMARY:WHO AFRO Regional Committee Meeting
DESCRIPTION:
URL:https://global5050.org/keyevents/who-afro-regional-committee-meeting/
CATEGORIES:Meetings
END:VEVENT
BEGIN:VEVENT
DTSTART;VALUE=DATE:20230831
DTEND;VALUE=DATE:20230901
DTSTAMP:20260422T012225
CREATED:20221215T124202Z
LAST-MODIFIED:20221215T125834Z
UID:6358-1693440000-1693526399@global5050.org
SUMMARY:International Overdose Awareness Day
DESCRIPTION:
URL:https://global5050.org/keyevents/international-overdose-awareness-day-3/
CATEGORIES:Events
END:VEVENT
END:VCALENDAR