BEGIN:VCALENDAR
VERSION:2.0
PRODID:-//Global 50/50 - ECPv6.15.20//NONSGML v1.0//EN
CALSCALE:GREGORIAN
METHOD:PUBLISH
X-ORIGINAL-URL:https://global5050.org
X-WR-CALDESC:Events for Global 50/50
REFRESH-INTERVAL;VALUE=DURATION:PT1H
X-Robots-Tag:noindex
X-PUBLISHED-TTL:PT1H
BEGIN:VTIMEZONE
TZID:Europe/London
BEGIN:DAYLIGHT
TZOFFSETFROM:+0000
TZOFFSETTO:+0100
TZNAME:BST
DTSTART:20220327T010000
END:DAYLIGHT
BEGIN:STANDARD
TZOFFSETFROM:+0100
TZOFFSETTO:+0000
TZNAME:GMT
DTSTART:20221030T010000
END:STANDARD
BEGIN:DAYLIGHT
TZOFFSETFROM:+0000
TZOFFSETTO:+0100
TZNAME:BST
DTSTART:20230326T010000
END:DAYLIGHT
BEGIN:STANDARD
TZOFFSETFROM:+0100
TZOFFSETTO:+0000
TZNAME:GMT
DTSTART:20231029T010000
END:STANDARD
BEGIN:DAYLIGHT
TZOFFSETFROM:+0000
TZOFFSETTO:+0100
TZNAME:BST
DTSTART:20240331T010000
END:DAYLIGHT
BEGIN:STANDARD
TZOFFSETFROM:+0100
TZOFFSETTO:+0000
TZNAME:GMT
DTSTART:20241027T010000
END:STANDARD
END:VTIMEZONE
BEGIN:VEVENT
DTSTART;VALUE=DATE:20230828
DTEND;VALUE=DATE:20230902
DTSTAMP:20260422T012410
CREATED:20221215T124115Z
LAST-MODIFIED:20221215T125811Z
UID:6355-1693180800-1693612799@global5050.org
SUMMARY:WHO AFRO Regional Committee Meeting
DESCRIPTION:
URL:https://global5050.org/keyevents/who-afro-regional-committee-meeting/
CATEGORIES:Meetings
END:VEVENT
BEGIN:VEVENT
DTSTART;VALUE=DATE:20230904
DTEND;VALUE=DATE:20230905
DTSTAMP:20260422T012410
CREATED:20221215T124244Z
LAST-MODIFIED:20221215T130031Z
UID:6361-1693785600-1693871999@global5050.org
SUMMARY:World Sexual Health Day
DESCRIPTION:
URL:https://global5050.org/keyevents/world-sexual-health-day-3/
CATEGORIES:Events
END:VEVENT
BEGIN:VEVENT
DTSTART;VALUE=DATE:20230909
DTEND;VALUE=DATE:20230911
DTSTAMP:20260422T012410
CREATED:20221215T124341Z
LAST-MODIFIED:20221215T130342Z
UID:6363-1694217600-1694390399@global5050.org
SUMMARY:World Conference on Lung Cancer
DESCRIPTION:
URL:https://global5050.org/keyevents/world-conference-on-lung-cancer-3/
CATEGORIES:Conferences & Symposia
END:VEVENT
BEGIN:VEVENT
DTSTART;VALUE=DATE:20230909
DTEND;VALUE=DATE:20230911
DTSTAMP:20260422T012410
CREATED:20221215T124501Z
LAST-MODIFIED:20221215T130308Z
UID:6369-1694217600-1694390399@global5050.org
SUMMARY:G20 Leader's Summit
DESCRIPTION:
URL:https://global5050.org/keyevents/g20-leaders-summit/
CATEGORIES:Meetings
END:VEVENT
BEGIN:VEVENT
DTSTART;VALUE=DATE:20230909
DTEND;VALUE=DATE:20230911
DTSTAMP:20260422T012410
CREATED:20221215T124554Z
LAST-MODIFIED:20221215T124554Z
UID:6372-1694217600-1694390399@global5050.org
SUMMARY:International Conference on Healthy Cities
DESCRIPTION:
URL:https://global5050.org/keyevents/international-conference-on-healthy-cities/
CATEGORIES:Conferences & Symposia
END:VEVENT
BEGIN:VEVENT
DTSTART;VALUE=DATE:20230910
DTEND;VALUE=DATE:20230911
DTSTAMP:20260422T012410
CREATED:20221215T152046Z
LAST-MODIFIED:20221215T152046Z
UID:6375-1694304000-1694390399@global5050.org
SUMMARY:World Suicide Prevention Day
DESCRIPTION:
URL:https://global5050.org/keyevents/world-suicide-prevention-day-3/
CATEGORIES:Events
END:VEVENT
BEGIN:VEVENT
DTSTART;VALUE=DATE:20230911
DTEND;VALUE=DATE:20230914
DTSTAMP:20260422T012410
CREATED:20221215T152141Z
LAST-MODIFIED:20221215T152141Z
UID:6377-1694390400-1694649599@global5050.org
SUMMARY:Health-enhancing physical activity (HEPA) Europe 2023 Conference
DESCRIPTION:
URL:https://global5050.org/keyevents/health-enhancing-physical-activity-hepa-europe-2023-conference/
CATEGORIES:Conferences & Symposia
END:VEVENT
BEGIN:VEVENT
DTSTART;VALUE=DATE:20230912
DTEND;VALUE=DATE:20231001
DTSTAMP:20260422T012410
CREATED:20221215T152234Z
LAST-MODIFIED:20221215T152234Z
UID:6380-1694476800-1696118399@global5050.org
SUMMARY:78th Session of the UN General Assembly (UNGA 78)
DESCRIPTION:
URL:https://global5050.org/keyevents/78th-session-of-the-un-general-assembly-unga-78/
CATEGORIES:Meetings
END:VEVENT
BEGIN:VEVENT
DTSTART;VALUE=DATE:20230913
DTEND;VALUE=DATE:20230914
DTSTAMP:20260422T012410
CREATED:20221215T152324Z
LAST-MODIFIED:20221215T152324Z
UID:6383-1694563200-1694649599@global5050.org
SUMMARY:World Sepsis Day
DESCRIPTION:
URL:https://global5050.org/keyevents/world-sepsis-day-3/
CATEGORIES:Events
END:VEVENT
BEGIN:VEVENT
DTSTART;VALUE=DATE:20230916
DTEND;VALUE=DATE:20230918
DTSTAMP:20260422T012410
CREATED:20221215T152405Z
LAST-MODIFIED:20221215T152405Z
UID:6386-1694822400-1694995199@global5050.org
SUMMARY:International Conference on Healthy Cities
DESCRIPTION:
URL:https://global5050.org/keyevents/international-conference-on-healthy-cities-2/
CATEGORIES:Conferences & Symposia
END:VEVENT
BEGIN:VEVENT
DTSTART;VALUE=DATE:20230918
DTEND;VALUE=DATE:20230919
DTSTAMP:20260422T012410
CREATED:20221215T152457Z
LAST-MODIFIED:20221215T152457Z
UID:6389-1694995200-1695081599@global5050.org
SUMMARY:International Equal Pay Day
DESCRIPTION:
URL:https://global5050.org/keyevents/international-equal-pay-day-3/
CATEGORIES:Events
END:VEVENT
BEGIN:VEVENT
DTSTART;VALUE=DATE:20230919
DTEND;VALUE=DATE:20230921
DTSTAMP:20260422T012410
CREATED:20221215T152552Z
LAST-MODIFIED:20221215T152552Z
UID:6391-1695081600-1695254399@global5050.org
SUMMARY:Women's Health Innovation Summit 2023
DESCRIPTION:
URL:https://global5050.org/keyevents/womens-health-innovation-summit-2023/
CATEGORIES:Conferences & Symposia
END:VEVENT
BEGIN:VEVENT
DTSTART;VALUE=DATE:20230919
DTEND;VALUE=DATE:20230924
DTSTAMP:20260422T012410
CREATED:20221215T152724Z
LAST-MODIFIED:20221215T152724Z
UID:6393-1695081600-1695513599@global5050.org
SUMMARY:IASP 32nd World Congress
DESCRIPTION:
URL:https://global5050.org/keyevents/iasp-32nd-world-congress/
CATEGORIES:Conferences & Symposia
END:VEVENT
BEGIN:VEVENT
DTSTART;VALUE=DATE:20230921
DTEND;VALUE=DATE:20230922
DTSTAMP:20260422T012410
CREATED:20221215T152804Z
LAST-MODIFIED:20221215T152804Z
UID:6397-1695254400-1695340799@global5050.org
SUMMARY:International day of Peace
DESCRIPTION:
URL:https://global5050.org/keyevents/international-day-of-peace-3/
CATEGORIES:Events
END:VEVENT
BEGIN:VEVENT
DTSTART;VALUE=DATE:20230925
DTEND;VALUE=DATE:20230930
DTSTAMP:20260422T012410
CREATED:20221215T152857Z
LAST-MODIFIED:20221215T152857Z
UID:6400-1695600000-1696031999@global5050.org
SUMMARY:The Twelfth International Conference on Global Health Challenges
DESCRIPTION:
URL:https://global5050.org/keyevents/the-twelfth-international-conference-on-global-health-challenges/
CATEGORIES:Conferences & Symposia
END:VEVENT
BEGIN:VEVENT
DTSTART;VALUE=DATE:20230928
DTEND;VALUE=DATE:20230929
DTSTAMP:20260422T012410
CREATED:20221215T152940Z
LAST-MODIFIED:20221215T152940Z
UID:6403-1695859200-1695945599@global5050.org
SUMMARY:World Rabies Day
DESCRIPTION:
URL:https://global5050.org/keyevents/world-rabies-day-3/
CATEGORIES:Events
END:VEVENT
BEGIN:VEVENT
DTSTART;VALUE=DATE:20230929
DTEND;VALUE=DATE:20230930
DTSTAMP:20260422T012410
CREATED:20221215T153020Z
LAST-MODIFIED:20221215T153020Z
UID:6406-1695945600-1696031999@global5050.org
SUMMARY:World Heart Day
DESCRIPTION:
URL:https://global5050.org/keyevents/world-heart-day-3/
CATEGORIES:Events
END:VEVENT
END:VCALENDAR